BEGIN:VCALENDAR
VERSION:2.0
PRODID:-//TYPO3/NONSGML News system (news)//EN
BEGIN:VEVENT
UID:news-4317@{$plugin.tx_news.settings.domain}
DTSTAMP:20260210T140804Z
DTSTART:20260218T170000
DTEND:20260218T200000
LOCATION:katho in Aachen Robert Schuman Straße 25 52066 Aachen Raum 6
SUMMARY:2. Politischer Aschermittwoch in der katho am Standort Aachen
END:VEVENT
END:VCALENDAR
