BEGIN:VCALENDAR
VERSION:2.0
PRODID:-//TYPO3/NONSGML News system (news)//EN
BEGIN:VEVENT
UID:news-2512@{$plugin.tx_news.settings.domain}
DTSTAMP:20240402T082745Z
DTSTART:20240424T170000
DTEND:20240424T183000
LOCATION:Aula katho, Standort Aachen&nbsp; Robert-Schuman-Str. 25
52066 Aachen
SUMMARY:Buchpräsentation, Podiumsdiskussion und Ausstellung: Das Quartier Preuswald: Sozial- und Architektur-Raum
END:VEVENT
END:VCALENDAR
