BEGIN:VCALENDAR
VERSION:2.0
PRODID:-//TYPO3/NONSGML News system (news)//EN
BEGIN:VEVENT
UID:news-2058@{$plugin.tx_news.settings.domain}
DTSTAMP:20231024T103432Z
DTSTART:20231115T140000
DTEND:20231115T163000
LOCATION:Aula in der katho am Standort Aachen Robert-Schuman-Str. 25 52066 Aachen
SUMMARY:Femizide – die Gewalt an Frauen sichtbar machen
END:VEVENT
END:VCALENDAR
