BEGIN:VCALENDAR
VERSION:2.0
PRODID:-//TYPO3/NONSGML News system (news)//EN
BEGIN:VEVENT
UID:news-4153@{$plugin.tx_news.settings.domain}
DTSTAMP:20251217T094911Z
DTSTART:20260121T180000
DTEND:20260121T210000
LOCATION:Digital Hub münsterLAND Hafenweg 16 Münster
Die Veranstaltung ist kostenfrei.
SUMMARY:Kneipen-Quiz im Digital Hub münsterLAND: KI in der Sozialen Arbeit
END:VEVENT
END:VCALENDAR
