BEGIN:VCALENDAR
VERSION:2.0
PRODID:-//TYPO3/NONSGML News system (news)//EN
BEGIN:VEVENT
UID:news-186@{$plugin.tx_news.settings.domain}
DTSTAMP:20220325T114243Z
DTSTART:20211206T170000
DTEND:20211206T190000
LOCATION:Hybrid – katho Aachen (Aula) und online
SUMMARY:Islamischer Antisemitismus: Kennzeichen, Ursprünge, Folgen
END:VEVENT
END:VCALENDAR
