BEGIN:VCALENDAR
VERSION:2.0
PRODID:-//TYPO3/NONSGML News system (news)//EN
BEGIN:VEVENT
UID:news-4282@{$plugin.tx_news.settings.domain}
DTSTAMP:20260225T105806Z
DTSTART:20260518T170000
DTEND:20260518T180000
LOCATION:Online-Veranstaltung via Teams: Für den Zugang zum Online-Meetingraum bitte hier klicken!  &nbsp;
SUMMARY:Digitale Infoveranstaltung zum Masterstudiengang „Gesundheitsbezogene Soziale Arbeit“ am Standort Paderborn
END:VEVENT
END:VCALENDAR
