BEGIN:VCALENDAR
VERSION:2.0
PRODID:-//TYPO3/NONSGML News system (news)//EN
BEGIN:VEVENT
UID:news-3698@{$plugin.tx_news.settings.domain}
DTSTAMP:20260414T091712Z
DTSTART:20260527T090000
DTEND:20260527T103000
LOCATION:
SUMMARY:Einführung in das Literaturverwaltungsprogramm CITAVI-Windows
END:VEVENT
END:VCALENDAR
