BEGIN:VCALENDAR
VERSION:2.0
PRODID:-//TYPO3/NONSGML News system (news)//EN
BEGIN:VEVENT
UID:news-4463@{$plugin.tx_news.settings.domain}
DTSTAMP:20260414T091819Z
DTSTART:20260513T090000
DTEND:20260513T103000
LOCATION:
SUMMARY:Einführung in das Literaturverwaltungsprogramm Zotero
END:VEVENT
END:VCALENDAR
