BEGIN:VCALENDAR
VERSION:2.0
PRODID:-//TYPO3/NONSGML News system (news)//EN
BEGIN:VEVENT
UID:news-4362@{$plugin.tx_news.settings.domain}
DTSTAMP:20260225T121816Z
DTSTART:20260508T103000
DTEND:20260508T153000
LOCATION:Katholische Hochschule Nordrhein-Westfalen Standort Köln Wörthstraße 10 50668 Köln
Raum 101
SUMMARY:Fachforum: Soziale Arbeit als Provokation? Potenziale und Gefahren der Uneindeutigkeit in Theorie und Praxis
END:VEVENT
END:VCALENDAR
