BEGIN:VCALENDAR
VERSION:2.0
PRODID:-//TYPO3/NONSGML News system (news)//EN
BEGIN:VEVENT
UID:news-2412@{$plugin.tx_news.settings.domain}
DTSTAMP:20260127T094952Z
DTSTART:20260413T180000
DTEND:20260413T190000
LOCATION:Katholische Hochschule Nordrhein-Westfalen Piusallee 89 48147 Münster
Raum 260
SUMMARY:Infoveranstaltung: Master-Studiengang Heilpädagogik/Inklusive Pädagogik
END:VEVENT
END:VCALENDAR
