BEGIN:VCALENDAR
VERSION:2.0
PRODID:-//TYPO3/NONSGML News system (news)//EN
BEGIN:VEVENT
UID:news-4481@{$plugin.tx_news.settings.domain}
DTSTAMP:20260420T084924Z
DTSTART:20260429T163000
DTEND:20260429T173000
LOCATION:Online-Veranstaltung via Teams:Für den Zugang zum Online Meetingraum bitte hier klicken!
SUMMARY:Infoveranstaltung: Zertifikatsschwerpunkt „Leben mit Demenz“
END:VEVENT
END:VCALENDAR
