BEGIN:VCALENDAR
VERSION:2.0
PRODID:-//TYPO3/NONSGML News system (news)//EN
BEGIN:VEVENT
UID:news-1532@{$plugin.tx_news.settings.domain}
DTSTAMP:20260126T134241Z
DTSTART:20260127T173000
DTEND:20260127T193000
LOCATION:Achtung, Änderung!
Veranstaltung findet nur online statt!
https://teams.microsoft.com/meet/33575535275394?p=9GnA2JAXg72peh2ilu
Besprechungs-ID:&nbsp;335 755 352 753 94
Passcode:&nbsp;Xe3Sq73M
SUMMARY:Infoveranstaltung zum Masterstudiengang der Sozialen Arbeit am Standort Aachen
END:VEVENT
END:VCALENDAR
