BEGIN:VCALENDAR
VERSION:2.0
PRODID:-//TYPO3/NONSGML News system (news)//EN
BEGIN:VEVENT
UID:news-2012@{$plugin.tx_news.settings.domain}
DTSTAMP:20240611T140310Z
DTSTART:20240625T131500
DTEND:20240625T140000
LOCATION:online über&nbsp;katho.webex.com/meet/katho-divers
SUMMARY:katho divers: Basis-Workshops
END:VEVENT
END:VCALENDAR
