BEGIN:VCALENDAR
VERSION:2.0
PRODID:-//TYPO3/NONSGML News system (news)//EN
BEGIN:VEVENT
UID:news-1717@{$plugin.tx_news.settings.domain}
DTSTAMP:20250729T133236Z
DTSTART:20230623T103000
DTEND:20230623T170000
LOCATION:katho am Standort Köln Wörthstr. 10 50668 Köln&nbsp;
SUMMARY:Auftaktveranstaltung zum Projekt „katho divers“
END:VEVENT
END:VCALENDAR
