BEGIN:VCALENDAR
VERSION:2.0
PRODID:-//TYPO3/NONSGML News system (news)//EN
BEGIN:VEVENT
UID:news-676@{$plugin.tx_news.settings.domain}
DTSTAMP:20220414T102109Z
DTSTART:20220602T094500
DTEND:20220602T160000
LOCATION:Online
SUMMARY:katho Summerschool 2022: Familien stärken – Kinder schützen
END:VEVENT
END:VCALENDAR
