BEGIN:VCALENDAR
VERSION:2.0
PRODID:-//TYPO3/NONSGML News system (news)//EN
BEGIN:VEVENT
UID:news-522@{$plugin.tx_news.settings.domain}
DTSTAMP:20250730T134358Z
DTSTART:20220405T120000
DTEND:20220405T180000
LOCATION:Treffen in Lützerath um 12:00 Uhr&nbsp; am Mahnmal&nbsp;(die L277 in Lützerath bis ganz zum Ende durchfahren)
SUMMARY:Klimanotstand und Soziale Arbeit – Teil 1: Exkursion nach Lützerath
END:VEVENT
END:VCALENDAR
