BEGIN:VCALENDAR
VERSION:2.0
PRODID:-//TYPO3/NONSGML News system (news)//EN
BEGIN:VEVENT
UID:news-2400@{$plugin.tx_news.settings.domain}
DTSTAMP:20260401T100821Z
DTSTART:20260427T160000
DTEND:20260427T170000
LOCATION:Online-Infoveranstaltung: Soziale Arbeit (B.A.) am Standort Paderborn studieren | Besprechung beitreten | Microsoft Teams
SUMMARY:Online-Infoveranstaltung: Soziale Arbeit (B.A.) am Standort Paderborn studieren
END:VEVENT
END:VCALENDAR
