BEGIN:VCALENDAR
VERSION:2.0
PRODID:-//TYPO3/NONSGML News system (news)//EN
BEGIN:VEVENT
UID:news-1889@{$plugin.tx_news.settings.domain}
DTSTAMP:20260417T063002Z
DTSTART:20260430T151500
DTEND:20260430T161500
LOCATION:Hier an der Besprechung teilnehmen
Besprechungs-ID: 355 093 143 334
Kennung: zwxnpt
SUMMARY:Online-Sprechstunde für Studieninteressierte am Standort Aachen
END:VEVENT
END:VCALENDAR
