BEGIN:VCALENDAR
VERSION:2.0
PRODID:-//TYPO3/NONSGML News system (news)//EN
BEGIN:VEVENT
UID:news-1612@{$plugin.tx_news.settings.domain}
DTSTAMP:20230601T105029Z
DTSTART:20230607T140000
DTEND:20230607T153000
LOCATION:katho am Standort Paderborn Hörsaal AM003
SUMMARY:Praxiskolloquium Sommersemester 2023
END:VEVENT
END:VCALENDAR
