BEGIN:VCALENDAR
VERSION:2.0
PRODID:-//TYPO3/NONSGML News system (news)//EN
BEGIN:VEVENT
UID:news-903@{$plugin.tx_news.settings.domain}
DTSTAMP:20250729T133024Z
DTSTART:20221025T150000
DTEND:20221025T163000
LOCATION:katho Nordrhein-Westfalen am Standort Aachen Robert-Schuman-Str. 25 52066 Aachen Aula
SUMMARY:Prof. Wilhelm Heitmeyer zu Gast an der katho
END:VEVENT
END:VCALENDAR
