BEGIN:VCALENDAR
VERSION:2.0
PRODID:-//TYPO3/NONSGML News system (news)//EN
BEGIN:VEVENT
UID:news-4425@{$plugin.tx_news.settings.domain}
DTSTAMP:20260422T124320Z
DTSTART:20260518T114500
DTEND:20260518T131500
LOCATION:
SUMMARY:Schulung Literaturrecherche mit KI
END:VEVENT
END:VCALENDAR
