BEGIN:VCALENDAR
VERSION:2.0
PRODID:-//TYPO3/NONSGML News system (news)//EN
BEGIN:VEVENT
UID:news-721@{$plugin.tx_news.settings.domain}
DTSTAMP:20251219T094707Z
DTSTART:20220520T160000
DTEND:20220520T164500
LOCATION:
SUMMARY:ZÄSKO Kulturprogramm: Theater für Kinder
END:VEVENT
END:VCALENDAR
